BEGIN:VCALENDAR
VERSION:2.0
PRODID:-//European Crystallographic Association - ECPv6.14.2//NONSGML v1.0//EN
CALSCALE:GREGORIAN
METHOD:PUBLISH
X-ORIGINAL-URL:https://ecanews.org
X-WR-CALDESC:Events for European Crystallographic Association
REFRESH-INTERVAL;VALUE=DURATION:PT1H
X-Robots-Tag:noindex
X-PUBLISHED-TTL:PT1H
BEGIN:VTIMEZONE
TZID:UTC
BEGIN:STANDARD
TZOFFSETFROM:+0000
TZOFFSETTO:+0000
TZNAME:UTC
DTSTART:20160101T000000
END:STANDARD
END:VTIMEZONE
BEGIN:VEVENT
DTSTART;VALUE=DATE:20161007
DTEND;VALUE=DATE:20161010
DTSTAMP:20260422T141554
CREATED:20160829T123450Z
LAST-MODIFIED:20160829T123450Z
UID:2733-1475798400-1476057599@ecanews.org
SUMMARY:International Conference HeCrA-HSCBB16
DESCRIPTION:The 8th International Conference of the Hellenic Crystallographic Association (HeCrA) and the 11th Conference of the Hellenic Society for Computational Biology and Bioinformatics (HSCBB) are jointly organized as HeCrA-HSCBB16. \nHeCrA-HSCBB16 will take place at the Agricultural University of Athens in October 7-9\, 2016 \nThe conference will address key questions and issues in molecular structure and interactions. The Conference is the major event both of HeCrA & HSCBB. It is a forum to communicate state-of-the-art research\, interact and establish scientific networks and collaborations. In particular\, it will bring together crystallographers with Bioinformaticians and Computational Biologists for the identification of macromolecular targets and small molecules of pharmaceutical and biotechnological interest and study their interactions. There will be oral and poster presentations in addition to talks from distinguished invited speakers from Greece and the European Union.  \nOrganisers: Hellenic Crystallographic Association & Hellenic Society for Computational Biology and Bioinformatics.
URL:https://ecanews.org/event/international-conference-hecra-hscbb16/
LOCATION:Agricultural University of Athens\, Athens\, Greece
CATEGORIES:Greece,National,NM
ATTACH;FMTTYPE=image/png:https://ecanews.org/wp-content/uploads/2016/08/hca.png
END:VEVENT
BEGIN:VEVENT
DTSTART;VALUE=DATE:20161010
DTEND;VALUE=DATE:20161015
DTSTAMP:20260422T141554
CREATED:20150923T115339Z
LAST-MODIFIED:20151014T121732Z
UID:1290-1476057600-1476489599@ecanews.org
SUMMARY:Application of Neutrons in Engineering Materials Science
DESCRIPTION:The school will take place from 10 to 14 October 2016 in Freising near Munich. \nFurther details will be published soon.
URL:https://ecanews.org/event/application-of-neutrons-in-engineering-materials-science/
LOCATION:Haus am Schüberg Conference Centre\, Wulfsdorfer Weg 33\, Ammersbek\, Germany
CATEGORIES:Germany,Other Schools
END:VEVENT
END:VCALENDAR