BEGIN:VCALENDAR
VERSION:2.0
PRODID:-//European Crystallographic Association - ECPv6.14.2//NONSGML v1.0//EN
CALSCALE:GREGORIAN
METHOD:PUBLISH
X-ORIGINAL-URL:https://ecanews.org
X-WR-CALDESC:Events for European Crystallographic Association
REFRESH-INTERVAL;VALUE=DURATION:PT1H
X-Robots-Tag:noindex
X-PUBLISHED-TTL:PT1H
BEGIN:VTIMEZONE
TZID:UTC
BEGIN:STANDARD
TZOFFSETFROM:+0000
TZOFFSETTO:+0000
TZNAME:UTC
DTSTART:20160101T000000
END:STANDARD
END:VTIMEZONE
BEGIN:VEVENT
DTSTART;VALUE=DATE:20160907
DTEND;VALUE=DATE:20160912
DTSTAMP:20260422T123734
CREATED:20160510T110847Z
LAST-MODIFIED:20160510T111109Z
UID:2473-1473206400-1473638399@ecanews.org
SUMMARY:AIC International Crystallography School 2016
DESCRIPTION:The AIC International Crystallography School 2016 “Polymorphism\, stability and phase transitions in crystals: theory\, experiments\, applications” will be held in Rimini (7-11 September 2016). Full details can be checked at http://2016.aicschool.org. Bursaries covering registration fee\, travel and subsistence expenses are available until May 15.
URL:https://ecanews.org/event/aic-international-crystallography-school-2016/
LOCATION:Hotel Admiral Palace\, Viale Pascoli 145\, Rimini\, 47921\, Italy
CATEGORIES:Italy,Other Schools
ATTACH;FMTTYPE=image/jpeg:https://ecanews.org/wp-content/uploads/2016/05/AICS2016_poster_v2.4.jpg
END:VEVENT
BEGIN:VEVENT
DTSTART;VALUE=DATE:20160921
DTEND;VALUE=DATE:20160926
DTSTAMP:20260422T123734
CREATED:20160522T185233Z
LAST-MODIFIED:20160613T092137Z
UID:2515-1474416000-1474847999@ecanews.org
SUMMARY:Twenty-fourth Croatian-Slovenian Crystallographic Meeting
DESCRIPTION:The Twenty-fourth Croatian-Slovenian Crystallographic Meeting (CSCM24) will be held in the Hotel Elaphusa\, Bol\, the island of Brač\, Croatia\, from September 21 st to 25 th \, 2016. The Meeting is organized by the Croatian Crystallographic Association and the Slovenian Crystallographic Society. All the necessary information on the venue\, scientific programme\, registration procedure\, abstract submission\, social programme\, deadlines and accommodation arrangement can be found at the official website of the Meeting\, http://cscm24.org. \nThere is no registration fee for this Meeting. The deadline for the accommodation arrangement\, registration and abstract submission is June 30 th \, 2016.
URL:https://ecanews.org/event/twenty-fourth-croatian-slovenian-crystallographic-meeting/
LOCATION:Hotel Elaphusa\, Put Zlatnog rata 46\, Bol\, Croatia (Local Name: Hrvatska)
CATEGORIES:Croatia,Meeting,National,Other Meetings,Slovenia
ATTACH;FMTTYPE=image/jpeg:https://ecanews.org/wp-content/uploads/2016/05/town-of-bol-for_ecanews_org.jpg
END:VEVENT
END:VCALENDAR