BEGIN:VCALENDAR
VERSION:2.0
PRODID:-//European Crystallographic Association - ECPv6.14.2//NONSGML v1.0//EN
CALSCALE:GREGORIAN
METHOD:PUBLISH
X-WR-CALNAME:European Crystallographic Association
X-ORIGINAL-URL:https://ecanews.org
X-WR-CALDESC:Events for European Crystallographic Association
REFRESH-INTERVAL;VALUE=DURATION:PT1H
X-Robots-Tag:noindex
X-PUBLISHED-TTL:PT1H
BEGIN:VTIMEZONE
TZID:UTC
BEGIN:STANDARD
TZOFFSETFROM:+0000
TZOFFSETTO:+0000
TZNAME:UTC
DTSTART:20150101T000000
END:STANDARD
END:VTIMEZONE
BEGIN:VEVENT
DTSTART;VALUE=DATE:20150921
DTEND;VALUE=DATE:20150926
DTSTAMP:20260424T050602
CREATED:20150923T120547Z
LAST-MODIFIED:20151014T121913Z
UID:1299-1442793600-1443225599@ecanews.org
SUMMARY:MATRAC Summer School 'Application of Neutrons and Synchrotron Radiation in Engineering Materials Science
DESCRIPTION:We take pleasure in informing you that registration is now open for our MATRAC Summer School ‘Application of Neutrons and Synchrotron Radiation in Engineering Materials Science’ to be held in Hamburg/Ammersbek\, Germany\, from September 21 to 25\, 2015 in cooperation with the Röntgen-Ångström-Cluster and the Virtual Institute of the Helmholtz Association ‘New X-ray Analytic Methods in Material Science’ (VI-NXMM). The school will provide a systematic overview of the application of neutrons and synchrotron radiation to the structural analysis in applied materials. All relevant experimental methods will be covered in a three-day course which will be followed by a two-day practical. The practical at GEMS/DESY in Hamburg will cover various diffractometers\, SAXS instruments and tomography stations. Neutron data analysis will also be practised. Registration deadline is June 24\, 2015. For more information please visit our website http://www.hzg.de/matrac
URL:https://ecanews.org/event/matrac-summer-school-application-of-neutrons-and-synchrotron-radiation-in-engineering-materials-science/
LOCATION:Haus am Schüberg Conference Centre\, Wulfsdorfer Weg 33\, Ammersbek\, Germany
CATEGORIES:Germany,Other Schools
END:VEVENT
END:VCALENDAR