BEGIN:VCALENDAR
VERSION:2.0
PRODID:-//European Crystallographic Association - ECPv6.14.2//NONSGML v1.0//EN
CALSCALE:GREGORIAN
METHOD:PUBLISH
X-WR-CALNAME:European Crystallographic Association
X-ORIGINAL-URL:https://ecanews.org
X-WR-CALDESC:Events for European Crystallographic Association
REFRESH-INTERVAL;VALUE=DURATION:PT1H
X-Robots-Tag:noindex
X-PUBLISHED-TTL:PT1H
BEGIN:VTIMEZONE
TZID:UTC
BEGIN:STANDARD
TZOFFSETFROM:+0000
TZOFFSETTO:+0000
TZNAME:UTC
DTSTART:20260101T000000
END:STANDARD
END:VTIMEZONE
BEGIN:VEVENT
DTSTART;VALUE=DATE:20260929
DTEND;VALUE=DATE:20261002
DTSTAMP:20260419T183621
CREATED:20251018T101856Z
LAST-MODIFIED:20251018T101856Z
UID:20520-1790640000-1790899199@ecanews.org
SUMMARY:Materials Science and Engineering congress
DESCRIPTION:On behalf of the German Materials Society (DGM)\, we are pleased to welcome you to the International Materials Science and Engineering Congress – MSE 2026 in Darmstadt\, Germany. Crystallography\, as a fundamental aspect of materials research\, plays a crucial role in understanding and designing new materials. Its contributions are integral to many recent breakthroughs in materials science and engineering\, and we look forward to exploring these connections during the course of the conference. With a range of sessions including plenary talks\, highlight lectures\, poster presentations\, and social events\, there will be ample opportunities for learning and networking. Whether attending in person or virtually\, we encourage you to engage actively and contribute to shaping the future of materials science.
URL:https://ecanews.org/event/materials-science-and-engineering-congress/
LOCATION:Darmstadt + online\, Technical University Darmstadt\, Darmstadt\, Germany
CATEGORIES:National
END:VEVENT
END:VCALENDAR