BEGIN:VCALENDAR
VERSION:2.0
PRODID:-//European Crystallographic Association - ECPv6.14.2//NONSGML v1.0//EN
CALSCALE:GREGORIAN
METHOD:PUBLISH
X-WR-CALNAME:European Crystallographic Association
X-ORIGINAL-URL:https://ecanews.org
X-WR-CALDESC:Events for European Crystallographic Association
REFRESH-INTERVAL;VALUE=DURATION:PT1H
X-Robots-Tag:noindex
X-PUBLISHED-TTL:PT1H
BEGIN:VTIMEZONE
TZID:UTC
BEGIN:STANDARD
TZOFFSETFROM:+0000
TZOFFSETTO:+0000
TZNAME:UTC
DTSTART:20210101T000000
END:STANDARD
END:VTIMEZONE
BEGIN:VEVENT
DTSTART;TZID=UTC:20211015T080000
DTEND;TZID=UTC:20211017T170000
DTSTAMP:20260423T071810
CREATED:20210705T144209Z
LAST-MODIFIED:20210705T144523Z
UID:11392-1634284800-1634490000@ecanews.org
SUMMARY:10th International Conference of the Hellenic Crystallographic Association (HeCrA)
DESCRIPTION:The 10th International Conference of the Hellenic Crystallographic Association (HeCrA) will take place in October 15-17\, 2021 in Athens\, Greece\, in an in-person format. A limited number of bursaries for travel\, accommodation and subsistence expenses\, will be granted to eligible young students who will travel to Athens from abroad or from other Greek cities. \nKostas Bethanis (president of the HeCrA board)
URL:https://ecanews.org/event/10th-international-conference-of-the-hellenic-crystallographic-association-hecra/
LOCATION:National Centre for Scientific Research “Demokritos”\, 27 Neapoleos Str\, Agia Paraskevi\, Athens\, Greece
CATEGORIES:National
END:VEVENT
END:VCALENDAR